BEGIN:VCALENDAR
VERSION:2.0
PRODID:-//eventon.com NONSGML v1.0//EN
CALSCALE:GREGORIAN
METHOD:PUBLISH
BEGIN:VEVENT
UID:69e9ebaff3847
DTSTAMP:20260423T095143Z
DTSTART:20260409T200000Z
DTEND:20260419T233000Z
LOCATION:
SUMMARY:Spectacle - revue de cabaret bilingue "LachkÃ¼r im Elsass Ã Â Schirrhein
DESCRIPTION:Le thÃ©Ã¢tre des 2 HÃ¢ches prÃ©sente son spectacle - revue de c
 abaret satirique et bilingue "LachkÃ¼r im Elsass" les 9\,  10\,  11\,  15\,
   16\,  17\,  18 avril Ã  20h et les dimanches 12Â et le 19 avrilÂ Ã  14h Ã
   l'espace socio culturel de Schirrhein. Une vÃ©ritable cure de rire en Als
 ace.[..]\nhttps://haguenau.maxi-flash.com/events/spectacle-revue-de-cabaret
 -bilingue-lachkur-im-elsass-a-schirrhein/
URL:https://haguenau.maxi-flash.com/events/spectacle-revue-de-cabaret-bilingue-lachkur-im-elsass-a-schirrhein/
END:VEVENT
END:VCALENDAR