BEGIN:VCALENDAR
VERSION:2.0
PRODID:-//eventon.com NONSGML v1.0//EN
CALSCALE:GREGORIAN
METHOD:PUBLISH
BEGIN:VEVENT
UID:69e9edcd75933
DTSTAMP:20260423T100045Z
DTSTART:20260410T200000Z
DTEND:20260410T235900Z
LOCATION:
SUMMARY:Ballet et orchestre "Le Lac des Cygnes" Ã Â Strasbourg
DESCRIPTION:Le Lac des Cygnes\,  chef-dâ€™Å“uvre du ballet classique\,  pas
 sera au ZÃ©nith de Strasbourg le vendredi 10 avril Ã  20h.Â Lâ€™histoire du
  prince SiegfriedÂ et de la princesse Odette reprend vie avec intensitÃ©. O
 dette\,  victime dâ€™un sortilÃ¨ge cruel\,  est condamnÃ©e Ã  vivre sous lâ
 €™apparence dâ€™un cygne le jour et retrouve sa forme humaine[..]\nhttps://
 haguenau.maxi-flash.com/events/ballet-et-orchestre-le-lac-des-cygnes-a-stra
 sbourg/
URL:https://haguenau.maxi-flash.com/events/ballet-et-orchestre-le-lac-des-cygnes-a-strasbourg/
END:VEVENT
END:VCALENDAR