BEGIN:VCALENDAR
VERSION:2.0
PRODID:-//eventon.com NONSGML v1.0//EN
CALSCALE:GREGORIAN
METHOD:PUBLISH
BEGIN:VEVENT
UID:69e9ed716b2e4
DTSTAMP:20260423T095913Z
DTSTART:20260419T160000Z
DTEND:20260419T235900Z
LOCATION:
SUMMARY:Revue Humoristique en Alsacien « Tyrol\,  Venedig …oder Mars ??? » à Haguenau
DESCRIPTION:La troupe burlesque des ALSA & Co… vous invite à sa nouvelle
  revue spectacle en dialecte « Tyrol\,  Venedig …oder Mars ??? » le dim
 anche 19 avril à 16h à Haguenau. Vous êtes cordialement conviés à rire
  à travers une enfilade de sketches irrésistibles et à fredonner les que
 lques belles[..]\nhttps://haguenau.maxi-flash.com/events/revue-humoristique
 -en-alsacien-tyrol-venedig-oder-mars-a-haguenau/
URL:https://haguenau.maxi-flash.com/events/revue-humoristique-en-alsacien-tyrol-venedig-oder-mars-a-haguenau/
END:VEVENT
END:VCALENDAR