BEGIN:VCALENDAR
VERSION:2.0
PRODID:-//eventon.com NONSGML v1.0//EN
CALSCALE:GREGORIAN
METHOD:PUBLISH
BEGIN:VEVENT
UID:69ed56ba80f30
DTSTAMP:20260426T000514Z
DTSTART:20260510T100000Z
DTEND:20260510T180000Z
LOCATION:
SUMMARY:Journée du bien-être\,  de la santé et de l'artisanat  à Schweighouse sur Moder
DESCRIPTION:L'Union Sportive de Schweighouse sur Moder\,  organise sa journ
 ée du bien-être\,  de la santé et de l'artisanat le dimanche 10 mai 2026
  de 10h à 18h à la salle de l'Union\,  rue Eisenbruch à Schweighouse. D
 e nombreux thérapeutes\,  artisans et producteurs locaux seront au rendez-
 vous. Des conférences\,  des séances d'initiation Yoga\, [..]\nhttps://ha
 guenau.maxi-flash.com/events/journee-du-bien-etre-de-la-sante-et-de-lartisa
 nat-a-schweighouse-sur-moder/
URL:https://haguenau.maxi-flash.com/events/journee-du-bien-etre-de-la-sante-et-de-lartisanat-a-schweighouse-sur-moder/
END:VEVENT
END:VCALENDAR