BEGIN:VCALENDAR
VERSION:2.0
PRODID:-//eventon.com NONSGML v1.0//EN
CALSCALE:GREGORIAN
METHOD:PUBLISH
BEGIN:VEVENT
UID:69e9ecd5e0e5f
DTSTAMP:20260423T095637Z
DTSTART:20260502T180000Z
DTEND:20260503T230000Z
LOCATION:
SUMMARY:Spectacle « Les Trésors du Temps » à Seebach
DESCRIPTION:Le groupe folklorique de Seebach propose le spectacle « Les Tr
 ésors du Temps » les samedi 2 et dimanche 3 mai à la salle des fêtes d
 e Seebach. L’association fête cette année ses 90 ans. Ce spectacle\,  
 entièrement créé par les membres du groupe folklorique\,  rassemble sur
  scène 95 membres\,  danseurs et musiciens[..]\nhttps://haguenau.maxi-flas
 h.com/events/spectacle-les-tresors-du-temps-a-seebach/
URL:https://haguenau.maxi-flash.com/events/spectacle-les-tresors-du-temps-a-seebach/
END:VEVENT
END:VCALENDAR