BEGIN:VCALENDAR
VERSION:2.0
PRODID:-//eventon.com NONSGML v1.0//EN
CALSCALE:GREGORIAN
METHOD:PUBLISH
BEGIN:VEVENT
UID:69ed57764de29
DTSTAMP:20260426T000822Z
DTSTART:20260508T060000Z
DTEND:20260508T180000Z
LOCATION:
SUMMARY:5Ã¨me vide-grenier Ã  Guntzviller
DESCRIPTION:La Commune de Guntzviller et lâ€™Association Parents Arzviller-
 Guntzviller vous donnent rendez-vous le vendredi 8 mai 2026 autour de lâ€™Ã
 ©glise de Guntzviller pour une journÃ©e conviviale et pleine de bonnes affa
 ires de 6h Ã  18h. Buvette\,  restauration\,  pizzas\,  tartes flambÃ©es. T
 arifs exposants : 14 â‚¬ les 6 mÃ¨tres\,  2 â‚¬ le[..]\nhttps://haguenau.ma
 xi-flash.com/events/5eme-vide-grenier-a-guntzviller/
URL:https://haguenau.maxi-flash.com/events/5eme-vide-grenier-a-guntzviller/
END:VEVENT
END:VCALENDAR