BEGIN:VCALENDAR
VERSION:2.0
PRODID:-//eventon.com NONSGML v1.0//EN
CALSCALE:GREGORIAN
METHOD:PUBLISH
BEGIN:VEVENT
UID:69ed6ee427c6b
DTSTAMP:20260426T014820Z
DTSTART:20260621T130000Z
DTEND:20260621T200000Z
LOCATION:
SUMMARY:Exposition de véhicules anciens Dimanche 21 juin  À Niederbronn-les-Bains 
DESCRIPTION:En 1926\,  Niederbronn-les-Bains devenait la première station 
 hydrominérale d’Alsace. Cent ans plus tard\,  la Ville célèbre cet ann
 iversaire en organisant un week-end festif dédié aux Années folles\,  du
  19 au 21 juin 2026. Le centre-ville s’animera tout au long du week-end a
 vec musiques et danses d’époque\,  spectacles\,  animations\,  jeux et[.
 .]\nhttps://haguenau.maxi-flash.com/events/exposition-de-vehicules-anciens-
 dimanche-21-juin-a-niederbronn-les-bains/
URL:https://haguenau.maxi-flash.com/events/exposition-de-vehicules-anciens-dimanche-21-juin-a-niederbronn-les-bains/
END:VEVENT
END:VCALENDAR