BEGIN:VCALENDAR
VERSION:2.0
PRODID:-//eventon.com NONSGML v1.0//EN
CALSCALE:GREGORIAN
METHOD:PUBLISH
BEGIN:VEVENT
UID:69ed564847a3c
DTSTAMP:20260426T000320Z
DTSTART:20260425T090000Z
DTEND:20260425T120000Z
LOCATION:
SUMMARY:Vente de plans de potager et fleurs à Betschdorf
DESCRIPTION:La paroisse protestante de Betschdorf organise le samedi 25 avr
 il de 9h à 12h au foyer protestant de Betschdorf une vente de plan de pota
 ger et fleurs en soutiens aux travaux de rénovation de l'orgue de l'églis
 e d'Oberbetschdorf. \nhttps://haguenau.maxi-flash.com/events/vente-de-plan
 s-de-potager-et-fleurs-a-betschdorf/
URL:https://haguenau.maxi-flash.com/events/vente-de-plans-de-potager-et-fleurs-a-betschdorf/
END:VEVENT
END:VCALENDAR