BEGIN:VCALENDAR
VERSION:2.0
PRODID:-//eventon.com NONSGML v1.0//EN
CALSCALE:GREGORIAN
METHOD:PUBLISH
BEGIN:VEVENT
UID:69ed564847843
DTSTAMP:20260426T000320Z
DTSTART:20260502T200000Z
DTEND:20260502T235000Z
LOCATION:
SUMMARY:Loto du RC HAGUENAU à Haguenau
DESCRIPTION:Le deuxième loto du RC Haguenau aura lieu le 02 mai 2026 à la
  salle des corporations de Haguenau ! Toujours animé par l'inusable James 
 Bund\,  le loto n'attend plus que vous pour démarrer ! Plus de 7000€ de 
 lots à gagner ! Petite restauration et buvette sur place. Inscriptions[..]
 \nhttps://haguenau.maxi-flash.com/events/loto-du-rc-haguenau-a-haguenau/
URL:https://haguenau.maxi-flash.com/events/loto-du-rc-haguenau-a-haguenau/
END:VEVENT
END:VCALENDAR