BEGIN:VCALENDAR
VERSION:2.0
PRODID:-//eventon.com NONSGML v1.0//EN
CALSCALE:GREGORIAN
METHOD:PUBLISH
BEGIN:VEVENT
UID:69ed57331e75c
DTSTAMP:20260426T000715Z
DTSTART:20260501T090000Z
DTEND:20260501T180000Z
LOCATION:
SUMMARY:Promenade du 1er mai Ã  Soufflenheim
DESCRIPTION:Le cercle Aloysia\,  section thÃ©Ã¢trale\,  organise une promen
 ade le vendredi 1er mai. DÃ©part Ã  9h du club house. DÃ©jeuner Ã  12h30 au
  refuge de l'ANO. Tarif : 12â‚¬/personne\,  9â‚¬ pour les 5 Ã  12 ans. Incl
 us dans le prix : marche\,  casse-croÃ»te\,  soupe de pois et saucisses. RÃ
 ©servation repas au[..]\nhttps://haguenau.maxi-flash.com/events/promenade-d
 u-1er-mai-a-soufflenheim/
URL:https://haguenau.maxi-flash.com/events/promenade-du-1er-mai-a-soufflenheim/
END:VEVENT
END:VCALENDAR