BEGIN:VCALENDAR
VERSION:2.0
PRODID:-//eventon.com NONSGML v1.0//EN
CALSCALE:GREGORIAN
METHOD:PUBLISH
BEGIN:VEVENT
UID:69ed56bb0d046
DTSTAMP:20260426T000515Z
DTSTART:20260509T180000Z
DTEND:20260509T235000Z
LOCATION:
SUMMARY:SoirÃ©e tartes flambÃ©es/pizzas Ã  Rountzenheim/Auenheim
DESCRIPTION:Les Sports RÃ©unisÂ Rountzenheim-Auenheim organise une soirÃ©eÂ
  tartesÂ flambÃ©es et pizzas cuites au feu de bois le Samedi 9Â mai Ã  part
 ir de 18h au stade deÂ Rountzenheim-Auenheim. Venez nombreux nous soutenirÂ
  !\nhttps://haguenau.maxi-flash.com/events/soiree-tartes-flambees-pizzas-a-
 rountzenheim-auenheim/
URL:https://haguenau.maxi-flash.com/events/soiree-tartes-flambees-pizzas-a-rountzenheim-auenheim/
END:VEVENT
END:VCALENDAR