BEGIN:VCALENDAR
VERSION:2.0
PRODID:-//eventon.com NONSGML v1.0//EN
CALSCALE:GREGORIAN
METHOD:PUBLISH
BEGIN:VEVENT
UID:69ed6e6305a9b
DTSTAMP:20260426T014611Z
DTSTART:20260501T080000Z
DTEND:20260501T180000Z
LOCATION:
SUMMARY:Randonnée populaire et familiale à Lembach
DESCRIPTION:Le Club Vosgien Haguenau-Lembach vous attend le 1er mai au Chal
 et de Lembach. Au programme : parcours pédestres (5\,  12 ou 19 km) et VTT
  (35 km)\,  animations pour enfants et adultes\,  animation musicale\,  res
 tauration sur place. Inscriptions et départs entre 8h et 11h30 au chalet d
 u club vosgien à[..]\nhttps://haguenau.maxi-flash.com/events/randonnee-pop
 ulaire-et-familiale-a-lembach/
URL:https://haguenau.maxi-flash.com/events/randonnee-populaire-et-familiale-a-lembach/
END:VEVENT
END:VCALENDAR