BEGIN:VCALENDAR
VERSION:2.0
PRODID:-//eventon.com NONSGML v1.0//EN
CALSCALE:GREGORIAN
METHOD:PUBLISH
BEGIN:VEVENT
UID:69ed6e6305c8d
DTSTAMP:20260426T014611Z
DTSTART:20260517T100000Z
DTEND:20260517T180000Z
LOCATION:
SUMMARY:Bourse de vêtements et de matériel de puériculture à Haguenau
DESCRIPTION:La Société de Gymnastique et de Sports UNION HAGUENAU organis
 e le 17 mai 2026 une bourse de vêtements et de matériel de puériculture 
 dans ses locaux au 4 rue du Tournoi à Haguenau. Entrée libre et petite re
 stauration.  Accueil visiteurs de 10h à 18h . Tarif exposant 12€ la pla
 ce[..]\nhttps://haguenau.maxi-flash.com/events/bourse-de-vetements-et-de-ma
 teriel-de-puericulture-a-haguenau/
URL:https://haguenau.maxi-flash.com/events/bourse-de-vetements-et-de-materiel-de-puericulture-a-haguenau/
END:VEVENT
END:VCALENDAR