BEGIN:VCALENDAR
VERSION:2.0
PRODID:-//eventon.com NONSGML v1.0//EN
CALSCALE:GREGORIAN
METHOD:PUBLISH
BEGIN:VEVENT
UID:69ed56662d076
DTSTAMP:20260426T000350Z
DTSTART:20260425T170000Z
DTEND:20260426T230000Z
LOCATION:
SUMMARY:Balade à moto "Une Rose Un Espoir – Secteur de la Plaine du Rhin" en Alsace du Nord
DESCRIPTION:L’association Une Rose Un Espoir – secteur de la Plaine du 
 Rhin est une initiative locale portée par des bénévoles\,  motards et no
 n motards\,  unis autour d’une cause commune : soutenir la recherche\,  l
 a prévention et la lutte contre le cancer. Nous proposons une rose en éc
 hange d’un don symbolique de[..]\nhttps://haguenau.maxi-flash.com/events/
 balade-a-moto-une-rose-un-espoir-secteur-de-la-plaine-du-rhin-en-alsace-du-
 nord/
URL:https://haguenau.maxi-flash.com/events/balade-a-moto-une-rose-un-espoir-secteur-de-la-plaine-du-rhin-en-alsace-du-nord/
END:VEVENT
END:VCALENDAR