BEGIN:VCALENDAR
VERSION:2.0
PRODID:-//eventon.com NONSGML v1.0//EN
CALSCALE:GREGORIAN
METHOD:PUBLISH
BEGIN:VEVENT
UID:69ed56e91d90f
DTSTAMP:20260426T000601Z
DTSTART:20260517T090000Z
DTEND:20260517T170000Z
LOCATION:
SUMMARY:Bacchus Tours à Marlenheim
DESCRIPTION:L’Office de Tourisme Mossig et Vignoble est ravi de vous don
 ner rendez-vous le dimanche 17 mai\,  de 9h à 17h (et jusqu'à 19h à Marl
 enheim)\,  pour la quatrième édition de son événement devenu incontourn
 able dans la région : le Bacchus Tours ! Au départ de Marlenheim\,  parte
 z à l’aventure à vélo\, [..]\nhttps://haguenau.maxi-flash.com/events/b
 acchus-tours-a-marlenheim/
URL:https://haguenau.maxi-flash.com/events/bacchus-tours-a-marlenheim/
END:VEVENT
END:VCALENDAR